BEGIN:VCALENDAR
VERSION:2.0
PRODID:HAZ Events
BEGIN:VEVENT
UID:
DTSTAMP:1776872745
SUMMARY:Chor ad Libitum
LOCATION:
CLASS:PUBLIC
DTSTART:20260427T173000Z
DTEND:20260427T193000Z
END:VEVENT
END:VCALENDAR