BEGIN:VCALENDAR
VERSION:2.0
PRODID:HAZ Events
BEGIN:VEVENT
UID:
DTSTAMP:1776780904
SUMMARY:Eltern-Kind-Turnen
LOCATION:Grundschule Herrenhausen
CLASS:PUBLIC
DTSTART:20260717T130000Z
DTEND:20260717T134500Z
END:VEVENT
END:VCALENDAR