BEGIN:VCALENDAR
VERSION:2.0
PRODID:HAZ Events
BEGIN:VEVENT
UID:
DTSTAMP:1776811144
SUMMARY:Bilderbuchkino
LOCATION:Stadt- und Schulbibliothek Bothfeld
CLASS:PUBLIC
DTSTART:20260507T133000Z
DTEND:20260507T153000Z
END:VEVENT
END:VCALENDAR