BEGIN:VCALENDAR
VERSION:2.0
PRODID:HAZ Events
BEGIN:VEVENT
UID:
DTSTAMP:1776786063
SUMMARY:Marktcaf&eacute; &ndash; auf einen Kaffee/Tee zur Marktzeit
LOCATION:Mehrgenerationenhaus
CLASS:PUBLIC
DTSTART:20260717T080000Z
DTEND:20260717T100000Z
END:VEVENT
END:VCALENDAR