BEGIN:VCALENDAR
VERSION:2.0
PRODID:HAZ Events
BEGIN:VEVENT
UID:
DTSTAMP:1776780957
SUMMARY:Spa&szlig; und Spiel
LOCATION:Ratsschule
CLASS:PUBLIC
DTSTART:20260717T135000Z
DTEND:20260717T150000Z
END:VEVENT
END:VCALENDAR