BEGIN:VCALENDAR
VERSION:2.0
PRODID:HAZ Events
BEGIN:VEVENT
UID:
DTSTAMP:1776840897
SUMMARY:Stadtrundfahrt im Doppeldecker Bus
LOCATION:Tourist-Information
CLASS:PUBLIC
DTSTART:20260501T123000Z
DTEND:20260501T143000Z
END:VEVENT
END:VCALENDAR