BEGIN:VCALENDAR
VERSION:2.0
PRODID:HAZ Events
BEGIN:VEVENT
UID:
DTSTAMP:1776796122
SUMMARY:Nachtw&auml;chter Melchior
LOCATION:Beginenturm
CLASS:PUBLIC
DTSTART:20260507T190000Z
DTEND:20260507T210000Z
END:VEVENT
END:VCALENDAR