BEGIN:VCALENDAR
VERSION:2.0
PRODID:HAZ Events
BEGIN:VEVENT
UID:
DTSTAMP:1776840737
SUMMARY:Dem Verbrechen auf der Spur &ndash; Hannovers Krimitour
LOCATION:Tourist-Information
CLASS:PUBLIC
DTSTART:20260501T140000Z
DTEND:20260501T160000Z
END:VEVENT
END:VCALENDAR