BEGIN:VCALENDAR
VERSION:2.0
PRODID:HAZ Events
BEGIN:VEVENT
UID:
DTSTAMP:1776846536
SUMMARY:Aquarellmalgruppe
LOCATION:
CLASS:PUBLIC
DTSTART:20260721T123000Z
DTEND:20260721T140000Z
END:VEVENT
END:VCALENDAR