BEGIN:VCALENDAR
VERSION:2.0
PRODID:HAZ Events
BEGIN:VEVENT
UID:
DTSTAMP:1776786053
SUMMARY:Informations- und Vermittlungsstelle f&uuml;r Ehrenamtliche
LOCATION:Freiwilligenzentrum B&uuml;rger f&uuml;r B&uuml;rger
CLASS:PUBLIC
DTSTART:20260717T083000Z
DTEND:20260717T103000Z
END:VEVENT
END:VCALENDAR