BEGIN:VCALENDAR
VERSION:2.0
PRODID:HAZ Events
BEGIN:VEVENT
UID:
DTSTAMP:1776771686
SUMMARY:Modell-Eisenbahner-Gespr&auml;chskreis
LOCATION:
CLASS:PUBLIC
DTSTART:20260720T120000Z
DTEND:20260720T140000Z
END:VEVENT
END:VCALENDAR